BEGIN:VCALENDAR
VERSION:2.0
PRODID:-//Library Market//iCal Export//EN
BEGIN:VEVENT
SUMMARY:A Little Something | Ages 2-5
UID:30412
DTSTAMP:20260420T041300Z
DTSTART:20260526T143000Z
DTEND:20260526T150000Z
LOCATION:195 South Greeley Avenue, Chappaqua, NY 10514, United States
ROOM: Theater
DESCRIPTION:A little program for the littles in our community!  This prog
 ram is for ages 2-5 with a adult (no registration required).This month- QU
 ACK QUACK!!  Ducks!The same program will be offered on Thursday, May 7 at
  2:30 PM, please choose one.      
URL:https://www.chappaqualibrary.org/event/little-something-ages-2-5-30412
END:VEVENT
END:VCALENDAR
