BEGIN:VCALENDAR
VERSION:2.0
PRODID:-//Library Market//iCal Export//EN
BEGIN:VEVENT
SUMMARY:A Little Something | Ages 2-5
UID:30411
DTSTAMP:20260419T224400Z
DTSTART:20260507T183000Z
DTEND:20260507T190000Z
LOCATION:195 South Greeley Avenue, Chappaqua, NY 10514, United States
ROOM: Theater
DESCRIPTION:A little program for the littles in our community!  This prog
 ram is for ages 2-5 with a adult (no registration required).This month- QU
 ACK QUACK!!  Ducks!The same program will be offered on Tuesday, May 26 at
  10:30 AM, please choose one.      
URL:https://www.chappaqualibrary.org/event/little-something-ages-2-5-30411
END:VEVENT
END:VCALENDAR
