BEGIN:VCALENDAR
VERSION:2.0
PRODID:-//Library Market//iCal Export//EN
BEGIN:VEVENT
SUMMARY:Open Book | Online
UID:30395
DTSTAMP:20260420T003300Z
DTSTART:20260512T230000Z
DTEND:20260513T010000Z
LOCATION:
DESCRIPTION:Online book discussion led by Christine Bobkoff.This month&#03
 9;s discussion: The Children Act Ian McEwanSponsored by the Friends  Reg
 ister for Zoom 
URL:https://www.chappaqualibrary.org/event/open-book-online-30395
END:VEVENT
END:VCALENDAR
