BEGIN:VCALENDAR
VERSION:2.0
PRODID:-//Library Market//iCal Export//EN
BEGIN:VEVENT
SUMMARY:Craft Masters- Magazine Beads | Gr. 3-6
UID:30277
DTSTAMP:20260420T023800Z
DTSTART:20260518T200000Z
DTEND:20260518T210000Z
LOCATION:195 South Greeley Avenue, Chappaqua, NY 10514, United States
ROOM: Kids Program Room
DESCRIPTION:A craft program for older crafters that requires a little more
  patience and skill.Make colorful beads out of old junk mail and magazines
 !   
URL:https://www.chappaqualibrary.org/event/craft-masters-magazine-beads-gr
 -3-6-30277
END:VEVENT
END:VCALENDAR
