BEGIN:VCALENDAR
VERSION:2.0
PRODID:-//Library Market//iCal Export//EN
BEGIN:VEVENT
SUMMARY:May the 5th Be With You!  STAR WARS LEGO
UID:30275
DTSTAMP:20260419T224400Z
DTSTART:20260505T190000Z
DTEND:20260505T210000Z
LOCATION:195 South Greeley Avenue, Chappaqua, NY 10514, United States
ROOM: Theater
DESCRIPTION:Drop in anytime between 3 and 5PM and create your own STAR WAR
 S spaceship out of LEGOS. Registration is not required.Children under 8 mu
 st be accompanied by an adult that participates with them.  Children betw
 een 8-10 years old can attend on their own as long as their adult is in th
 e library. 
URL:https://www.chappaqualibrary.org/event/may-5th-star-wars-lego-30275
END:VEVENT
END:VCALENDAR
