BEGIN:VCALENDAR
VERSION:2.0
PRODID:-//Library Market//iCal Export//EN
BEGIN:VEVENT
SUMMARY:Tea Time with Angel  Elektra
UID:30272
DTSTAMP:20260421T140000Z
DTSTART:20260527T200000Z
DTEND:20260527T210000Z
LOCATION:195 South Greeley Avenue, Chappaqua, NY 10514, United States
ROOM: Theater
DESCRIPTION:Celebrate Pre-Pride with a special tea and storytime with our 
 favorite Drag  Queen Angel  Elektra!Angel Elektra is coming back to Chap
 paqua on Wednesday 27 for a special tea and family storytime at 4 PM. Here
  is some important information:Space for this storytime is limited, and r
 egistration is required. Each registration allows you a maximum group or &
 quot;pod&quot; of 5 people (children+adults).Storytime with Angel is open 
 to children and families. Adults must be accompanying a child (and a child
  must be accompanying an adult!) The program is designed for children 3 an
 d up. Rainbow &amp; fancy outfits welcomed &amp; encouraged.Registrants w
 ho arrive 15 minutes or more after the start time may not be admitted.We w
 ill be serving some tea time treats (juice and cookies), please let us kno
 w if you have any allergies. 
URL:https://www.chappaqualibrary.org/event/tea-time-angel-elektra-30272
END:VEVENT
END:VCALENDAR
