BEGIN:VCALENDAR
VERSION:2.0
PRODID:-//Library Market//iCal Export//EN
BEGIN:VEVENT
SUMMARY:Foreign Policy Discussion Group | Online
UID:30177
DTSTAMP:20260421T204200Z
DTSTART:20260504T140000Z
DTEND:20260504T153000Z
LOCATION:
DESCRIPTION:TopicEvolving Leadership in the Middle EastSpeakerAmbassador (
 Ret.) Daniel Kurtzer, Princeton University School of Public and Internatio
 nal AffairsHis distinguished career includes serving as US Ambassador to I
 srael and US Ambassador to Egypt and leading many multilateral peace talks
 . He received his Ph.D. in political science from Columbia University. Re
 gister for the Zoom link(Watch past Foreign Policy Discussion Group video 
 recordings online or view other dates in this series.)    
URL:https://www.chappaqualibrary.org/event/foreign-policy-discussion-group
 -online-30177
END:VEVENT
END:VCALENDAR
