BEGIN:VCALENDAR
VERSION:2.0
PRODID:-//Library Market//iCal Export//EN
BEGIN:VEVENT
SUMMARY:Friday Family Film
UID:30086
DTSTAMP:20260420T023800Z
DTSTART:20260522T180000Z
DTEND:20260522T194500Z
LOCATION:195 South Greeley Avenue, Chappaqua, NY 10514, United States
ROOM: Theater
DESCRIPTION:Join us for an afternoon movie in our theater!  All ages welc
 ome (ages up to 10 with an adult).MoanaWalt Disney Pictures, rated PG110 M
 inutes   
URL:https://www.chappaqualibrary.org/event/friday-family-film-30086
END:VEVENT
END:VCALENDAR
