BEGIN:VCALENDAR
VERSION:2.0
PRODID:-//Library Market//iCal Export//EN
BEGIN:VEVENT
SUMMARY:The Grocery List Screening
UID:29639
DTSTAMP:20260424T205700Z
DTSTART:20260519T170000Z
DTEND:20260519T183000Z
LOCATION:195 South Greeley Avenue, Chappaqua, NY 10514, United States
ROOM: Theater
DESCRIPTION:Hosted by Top Chef contender Chrissy Camba, The Grocery List
  Show is a trip to five bustling international grocery stores in America a
 nd the communities they serve. Special guests and food enthusiasts join Ch
 rissy to shop for ingredients and cook a favorite family recipe, as they c
 elebrate global food traditions over a shared meal. Run time: 60 minutes
URL:https://www.chappaqualibrary.org/event/grocery-list-29639
END:VEVENT
END:VCALENDAR
